BEGIN:VCALENDAR
VERSION:2.0
PRODID:-//hacksw/handcal//NONSGML v1.0//EN
BEGIN:VEVENT
SUMMARY:Pass'Sport Ville de Soisons
UID:d4a52469-63e6-4585-8509-2f85daba2e30
DTSTART:20260817T070000Z
DTEND:20260821T100000Z
LOCATION:Localisation   
CATEGORIES:Stage
STATUS:
DESCRIPTION:<p>Le Jeu d'Arc ne sera pas disponible a ces jours et
 heures.</p>
URL;VALUE=URI:https://www.arc-soissons.com/evenements/2026/08/17/passsport-ville-de-soisons-2434796
END:VEVENT
END:VCALENDAR
