BEGIN:VCALENDAR
VERSION:2.0
PRODID:-//hacksw/handcal//NONSGML v1.0//EN
BEGIN:VEVENT
SUMMARY:Peloton a Parcy-Tigny
UID:9caeda2a-5e8f-4878-b911-c38b9b15fd32
DTSTART:20260801T063000Z
DTEND:20260801T220000Z
LOCATION:Localisation   
CATEGORIES:Sportif
STATUS:
URL;VALUE=URI:https://www.arc-soissons.com/evenements/2026/08/01/peloton-a-parcy-tigny-2439820
END:VEVENT
END:VCALENDAR
