BEGIN:VCALENDAR
VERSION:2.0
PRODID:-//hacksw/handcal//NONSGML v1.0//EN
BEGIN:VEVENT
SUMMARY:Peloton a Braine
UID:72bffa9b-6aef-4e8c-a266-d989353df0d9
DTSTART:20260711T070000Z
DTEND:20260711T220000Z
LOCATION:Localisation   
CATEGORIES:Sportif
STATUS:
URL;VALUE=URI:https://www.arc-soissons.com/evenements/2026/07/11/peloton-a-braine-2439821
END:VEVENT
END:VCALENDAR
