BEGIN:VCALENDAR
VERSION:2.0
PRODID:-//hacksw/handcal//NONSGML v1.0//EN
BEGIN:VEVENT
SUMMARY:Peloton a Parcy-Tigny
UID:922ff0c2-5349-4dbe-a849-8aaf30ef415e
DTSTART:20260704T063000Z
DTEND:20260704T220000Z
LOCATION:Localisation   
CATEGORIES:Sportif
STATUS:
URL;VALUE=URI:https://www.arc-soissons.com/evenements/2026/07/04/peloton-a-parcy-tigny-2439819
END:VEVENT
END:VCALENDAR
